BEGIN:VCALENDAR
VERSION:2.0
PRODID:-//Weltecho - ECPv5.16.2.1//NONSGML v1.0//EN
CALSCALE:GREGORIAN
METHOD:PUBLISH
X-WR-CALNAME:Weltecho
X-ORIGINAL-URL:https://weltecho.eu
X-WR-CALDESC:Veranstaltungen für Weltecho
BEGIN:VTIMEZONE
TZID:Europe/Berlin
BEGIN:DAYLIGHT
TZOFFSETFROM:+0100
TZOFFSETTO:+0200
TZNAME:CEST
DTSTART:20230326T010000
END:DAYLIGHT
BEGIN:STANDARD
TZOFFSETFROM:+0200
TZOFFSETTO:+0100
TZNAME:CET
DTSTART:20231029T010000
END:STANDARD
END:VTIMEZONE
BEGIN:VEVENT
DTSTART;TZID=Europe/Berlin:20230511T190000
DTEND;TZID=Europe/Berlin:20230511T230000
DTSTAMP:20260423T121011
CREATED:20230426T135233Z
LAST-MODIFIED:20230426T135233Z
UID:30186-1683831600-1683846000@weltecho.eu
SUMMARY:Bierpong Turnier
DESCRIPTION:Sport frei und gut pong! \n\n\nWir laden euch endlich wieder auf ein sportlich-faires und spaßiges Bierpong-Turnier ein. \n\n\nIn 2er-Teams geht es an den Tisch\, das Gewinnerteam erwartet eine kleine Überraschung & jede Menge Bier im Magen.\nAlso schnapp dir deine Biergang und ran an die Becher!\n\n\nStart: 19:00 Uhr | Anmeldung per Mail: anmeldung[at]weltecho.eu
URL:https://weltecho.eu/veranstaltung/bierpong-turnier/
LOCATION:Studio\, Annaberger Str. 24\, Chemnitz\, Sachsen\, 09111\, Deutschland
ATTACH;FMTTYPE=image/png:https://weltecho.eu/wp-content/uploads/WE_Bierpong_Event_05.2023_RZ.png
END:VEVENT
BEGIN:VEVENT
DTSTART;TZID=Europe/Berlin:20230511T190000
DTEND;TZID=Europe/Berlin:20230511T210000
DTSTAMP:20260423T121011
CREATED:20230430T125625Z
LAST-MODIFIED:20230430T125625Z
UID:30237-1683831600-1683838800@weltecho.eu
SUMMARY:Irgendwann werden wir uns alles erzählen
DESCRIPTION:Liebesfilm\, Literaturverfilmung | Deutschland 2022 | 133 Min.\nRegie: Emily Atef\nDarsteller*innen: Marlene Burow\, Felix Kramer\, Jördis Triebel\nIm Sommer nach dem Mauerfall beginnt eine 18-jährige Schülerin\, die auf dem Bauernhof ihres Freundes lebt\, ein Verhältnis mit einem doppelt so alten Mann aus ihrem Dorf an der deutsch-deutschen Grenze. Die auf die körperliche Energie abhebende Romanverfilmung (des gleichnamigen Bestsellers von Daniela Krien) mit drastischen\, auch Gewaltelemente beinhaltenden Sexszenen kreist um die Begegnung zweier Außenseiter in einer Übergangszeit. Die Darstellung des ostdeutschen Landlebens kurz vor dem Ende der DDR wirkt zwar mitunter etwas kulissenhaft\, doch die zwischen Ruhe und eruptiven Ausbrüchen wechselnde Beziehung des ungleichen Paars fasst die ambivalente Verbindung der beiden in Bilder gemeinsam erlittener Unausweichlichkeit.
URL:https://weltecho.eu/veranstaltung/irgendwann-werden-wir-uns-alles-erzaehlen/2023-05-11/
LOCATION:Kino\, Annaberger Str. 24\, Chemnitz\, Sachsen\, 09111\, Deutschland
CATEGORIES:Film
ATTACH;FMTTYPE=image/jpeg:https://weltecho.eu/wp-content/uploads/irgendwannhoch.jpg
GEO:50.8284759;12.9205225
X-APPLE-STRUCTURED-LOCATION;VALUE=URI;X-ADDRESS=Kino Annaberger Str. 24 Chemnitz Sachsen 09111 Deutschland;X-APPLE-RADIUS=500;X-TITLE=Annaberger Str. 24:geo:12.9205225,50.8284759
END:VEVENT
END:VCALENDAR