BEGIN:VCALENDAR
VERSION:2.0
PRODID:-//Weltecho - ECPv5.16.2.1//NONSGML v1.0//EN
CALSCALE:GREGORIAN
METHOD:PUBLISH
X-WR-CALNAME:Weltecho
X-ORIGINAL-URL:https://weltecho.eu
X-WR-CALDESC:Veranstaltungen für Weltecho
BEGIN:VTIMEZONE
TZID:Europe/Berlin
BEGIN:DAYLIGHT
TZOFFSETFROM:+0100
TZOFFSETTO:+0200
TZNAME:CEST
DTSTART:20230326T010000
END:DAYLIGHT
BEGIN:STANDARD
TZOFFSETFROM:+0200
TZOFFSETTO:+0100
TZNAME:CET
DTSTART:20231029T010000
END:STANDARD
END:VTIMEZONE
BEGIN:VEVENT
DTSTART;TZID=Europe/Berlin:20230512T200000
DTEND;TZID=Europe/Berlin:20230512T233000
DTSTAMP:20260424T131524
CREATED:20220324T103954Z
LAST-MODIFIED:20240411T120016Z
UID:28053-1683921600-1683934200@weltecho.eu
SUMMARY:Salsa del Mundo
DESCRIPTION:20 Uhr Salsa-Schnupperkurs für alle\n21 Uhr Salsa del Mundo \nSalsa und Latin Party mit einem Mix aus Salsa\, Bachata\, Kizomba und mehr. Best Salsa & Latin Music by DJ Chico.\nInfos zu den Tanzkursen unter www.salsa4ever.de \n 
URL:https://weltecho.eu/veranstaltung/salsa-social-club-uebungsparty-10-2022-07-29-2023-05-12/2023-05-12/
LOCATION:Cafe\, Annaberger Str. 24\, Chemnitz\, Sachsen\, 09111\, Deutschland
CATEGORIES:Tanz
ATTACH;FMTTYPE=image/jpeg:https://weltecho.eu/wp-content/uploads/IMG_2403_uebung.jpg
GEO:50.8284759;12.9205225
X-APPLE-STRUCTURED-LOCATION;VALUE=URI;X-ADDRESS=Cafe Annaberger Str. 24 Chemnitz Sachsen 09111 Deutschland;X-APPLE-RADIUS=500;X-TITLE=Annaberger Str. 24:geo:12.9205225,50.8284759
END:VEVENT
BEGIN:VEVENT
DTSTART;TZID=Europe/Berlin:20230512T230000
DTEND;TZID=Europe/Berlin:20230513T023000
DTSTAMP:20260424T131524
CREATED:20230501T084018Z
LAST-MODIFIED:20230511T091449Z
UID:30280-1683932400-1683945000@weltecho.eu
SUMMARY:120 Minuten Party – Flavio x Lef Deppard
DESCRIPTION:Die »120 Minuten Party«\, ist back!\nDieses Mal heizen Flavio (Toyota HiFi) & Lef Deppard den Club ein.\nEinige von euch erinnern sich vielleicht noch an das Konzept der Party\, an alle die es noch nicht kennen – hier die Regeln:\n23:00 Uhr ist Einlass und ab 00:30 Uhr heißt es dann: Der Countdown läuft! Für 120 Min kommen Hits Hits Hits – und das heißt durchtanzen was das Zeug hält. Denn wenn der Countdown auf 0 steht\, ist die Party vorbei!\nWir freuen uns schon riesig auf die 120 Minuten Party zusammen mit Euch!
URL:https://weltecho.eu/veranstaltung/120-minuten-party-harri-novak-x-lef-deppard/
LOCATION:Club\, Annaberger Str. 24\, Chemnitz\, Sachsen\, 09111\, Deutschland
CATEGORIES:Party
ATTACH;FMTTYPE=image/png:https://weltecho.eu/wp-content/uploads/WE_120min_Event_05.2023_RZ-1.png
GEO:50.8284759;12.9205225
X-APPLE-STRUCTURED-LOCATION;VALUE=URI;X-ADDRESS=Club Annaberger Str. 24 Chemnitz Sachsen 09111 Deutschland;X-APPLE-RADIUS=500;X-TITLE=Annaberger Str. 24:geo:12.9205225,50.8284759
END:VEVENT
END:VCALENDAR