BEGIN:VCALENDAR
VERSION:2.0
PRODID:-//Weltecho - ECPv5.16.2.1//NONSGML v1.0//EN
CALSCALE:GREGORIAN
METHOD:PUBLISH
X-WR-CALNAME:Weltecho
X-ORIGINAL-URL:https://weltecho.eu
X-WR-CALDESC:Veranstaltungen für Weltecho
BEGIN:VTIMEZONE
TZID:Europe/Berlin
BEGIN:DAYLIGHT
TZOFFSETFROM:+0100
TZOFFSETTO:+0200
TZNAME:CEST
DTSTART:20230326T010000
END:DAYLIGHT
BEGIN:STANDARD
TZOFFSETFROM:+0200
TZOFFSETTO:+0100
TZNAME:CET
DTSTART:20231029T010000
END:STANDARD
END:VTIMEZONE
BEGIN:VEVENT
DTSTART;TZID=Europe/Berlin:20230520T180000
DTEND;TZID=Europe/Berlin:20230520T190000
DTSTAMP:20260420T141815
CREATED:20220623T094343Z
LAST-MODIFIED:20230504T111018Z
UID:25209-1684605600-1684609200@weltecho.eu
SUMMARY:OFF Europa - Heimat los
DESCRIPTION:Gabriele Stötzer + Ensemble für Intuitive Musik Weimar (EFIM) / Duo Klangzeichen \nHeimat los \nzersetze die heimat in atome\ndann stecke sie dir in deine hosentasche und\nnimm sie überallhin mit\nbreite sie aus wenn der wind still ist\ndie sonne die plätze wärmt und\ndie menschen freundlich sind\ndas ist dein ort \nDas Ensemble für Intuitive Musik Weimar (EFIM) gab sein erstes Konzert mit Werken von Karlheinz Stockhausen am 13. Februar 1981 in der von Gabriele Stötzer geleiteten privaten Erfurter »Galerie im Flur«\, die am 1. April 1981 von der Stasi aufgelöst wurde. Seit 2009 gestaltet die Künstlerin und Autorin mit der Gruppe gemeinsame Programme\, in denen jeweils neue Texte als »Wort-Klang-Performance« aufgeführt werden. Unter dem Titel »Das Brennen der Worte im Mund« sind die Texte der Programme 2017 in Buchform erschienen.  \nTexte: Gabriele Stötzer\nEnsemble für Intuitive Musik Weimar (EFIM) / Duo Klangzeichen\nDaniel Hoffmann: Trompete / Flügelhorn\nMichael von Hintzenstern: Harmonium \nAufführung in deutscher Sprache\, Dauer etwa 60 Minuten \nEintritt:\nHeimat los: 7 € | 5 € (ermäßigt)\, 3 € (Chemnitz-Pass)\nStand Up (For Your Rights): 14 € | 10 € (ermäßigt)\, 6 € (Chemnitz-Pass)\nTageskarte für beide Aufführungen: 14 € | 10 € (ermäßigt)\, 6 € (Chemnitz-Pass)\nReservierungen über das Weltecho und über den Veranstalter office@offeuropa.de \nDas Gastspiel ist eine Veranstaltung von Off Europa: Heimat Landschaften – Festival für Zeitgenössische Darstellende Kunst\, Leipzig Dresden Chemnitz\, 14. – 21. Mai 2023  \nGefördert vom Thüringer Landesbeauftragten zur Aufarbeitung der SED-Diktatur und der Kulturstiftung des Freistaates Thüringen
URL:https://weltecho.eu/veranstaltung/off-europa-konzert/
LOCATION:Hof\, Annaberger Str. 24\, Chemnitz\, Sachsen\, 09111\, Deutschland
CATEGORIES:Konzert,Lesung,Performance
ATTACH;FMTTYPE=image/jpeg:https://weltecho.eu/wp-content/uploads/Gabriele-Stoetzer-im-Film-Rebellinnen-2-©-Salzgeber.jpeg
GEO:50.8284759;12.9205225
X-APPLE-STRUCTURED-LOCATION;VALUE=URI;X-ADDRESS=Hof Annaberger Str. 24 Chemnitz Sachsen 09111 Deutschland;X-APPLE-RADIUS=500;X-TITLE=Annaberger Str. 24:geo:12.9205225,50.8284759
END:VEVENT
BEGIN:VEVENT
DTSTART;TZID=Europe/Berlin:20230520T200000
DTEND;TZID=Europe/Berlin:20230520T220000
DTSTAMP:20260420T141815
CREATED:20230321T111538Z
LAST-MODIFIED:20230321T112744Z
UID:29556-1684612800-1684620000@weltecho.eu
SUMMARY:OFF Europa - Stand Up (For Your Rights)
DESCRIPTION:Jana Shostak \n„Über die Revolution in Belarus\, die seit August 2020 andauert\, wird selten gescherzt. Vor allem die unterdrückten Beteiligten sind nicht zum Lachen aufgelegt. Als in Polen lebende Weißrussin\, die Anti-Lukaschenko-Proteste initiiert und Hilfsorganisationen für die Verfolgten unterstützt\, habe ich öfter Tränen in den Augen als ein Lächeln auf den Lippen. Eine innere Perspektive jedoch veranlasst mich\, Satire und schwarzen Humor einzusetzen. Übrigens auch\, um den wenig bekannten Alltag einer Aktivistin im Detail zu beschreiben.\nIn meiner künstlerischen Naivität kam ich auf Stand-up\, um diese Art von kulturellem Eklektizismus in eine Performance zu packen. Ich habe mich bereits in der Vergangenheit an dieser Formel versucht\, indem ich bei ernsthaften Debatten über die Zukunft der Kultur als Dienstmädchen verkleidet herumlief\, in Zentren für Neuankömmlinge Väterchen Frost spielte oder bei meinen eigenen und fremden Ausstellungseröffnungen als Miss-Kandidatin auftrat.“ (Jana Shostak in Materialien zur Aufführung)\nJana Shostak\, geboren in Grodno\, Belarus\, ist eine weißrussisch-polnische Künstlerin und Aktivistin. Seit 2010 lebt sie in Polen und studierte unter anderem Medienkunst in Kraków und Warschau. Als Künstlerin bewegt sie sich insbesondere in den Bereichen Performance\, Film\, Video- und Netzkunst. Jana Shostak nutzt nicht nur die Sozialen Medien\, sondern auch Radio und TV als Plattform\, um ihre Aktionen zu verbreiten. Sie enterte mehrfach öffentliche Diskussionsrunden oder Fernsehshows\, zum Beispiel bat sie den Papst während einer Live-Übertragung auf einem T-Shirt um einen Telefonanruf. Während der Recherchen zu einem dokumentarischen Filmprojekt war sie Finalistin der Miss Polonia Wielkopolska (Großpolen) und trägt den Titel einer Vize-Miss der Woiwodschaft Zachodniopomorskie (Westpommern). Seit Beginn der Proteste in Belarus im Jahr 2020 schreit sie jeden Tag 18 Uhr in der Öffentlichkeit eine Minute\, um an den Wahlbetrug in ihrem Geburtsland zu erinnern. \nKomuna Warszawa ist einer der wichtigsten Theaterorte in Warschau. \nVon und mit Jana Shostak\nProduktion Komuna Warszawa \nAufführung in englischer Sprache\nDauer etwa 60 Minuten\nwww.instagram.com/heart.is.for.art \nEintritt:\nHeimat los: 7 € | 5 € (ermäßigt)\, 3 € (Chemnitz-Pass)\nStand Up (For Your Rights): 14 € | 10 € (ermäßigt)\, 6 € (Chemnitz-Pass)\nTageskarte für beide Aufführungen: 14 € | 10 € (ermäßigt)\, 6 € (Chemnitz-Pass)\nReservierungen über das Weltecho und über den Veranstalter office@offeuropa.de \nDas Gastspiel ist eine Veranstaltung von Off Europa: Heimat Landschaften – Festival für Zeitgenössische Darstellende Kunst\nLeipzig Dresden Chemnitz\, 14. – 21. Mai 2023 \nRealisiert mit Unterstützung der Stadt Warschau im Rahmen des KW Culture HUB Residency Programms
URL:https://weltecho.eu/veranstaltung/off-europa-stand-up-for-your-rights/
LOCATION:Cafe\, Annaberger Str. 24\, Chemnitz\, Sachsen\, 09111\, Deutschland
CATEGORIES:Performance,Theater
ATTACH;FMTTYPE=image/jpeg:https://weltecho.eu/wp-content/uploads/Stand-up-3-@-Pat-Mic.jpg
GEO:50.8284759;12.9205225
X-APPLE-STRUCTURED-LOCATION;VALUE=URI;X-ADDRESS=Cafe Annaberger Str. 24 Chemnitz Sachsen 09111 Deutschland;X-APPLE-RADIUS=500;X-TITLE=Annaberger Str. 24:geo:12.9205225,50.8284759
END:VEVENT
BEGIN:VEVENT
DTSTART;TZID=Europe/Berlin:20230520T230000
DTEND;TZID=Europe/Berlin:20230521T050000
DTSTAMP:20260420T141815
CREATED:20230511T111143Z
LAST-MODIFIED:20230511T111210Z
UID:30370-1684623600-1684645200@weltecho.eu
SUMMARY:BUZZIN' – presented by ma:sa & Kid Pedro
DESCRIPTION:BUZZIN’ – Neo Soul\, Beats\, R&B\, Rap| 20.05. | 23 Uhr \nUnsere Party BUZZIN’ geht in die nächste Runde. ma:sa und Kid Pedro spielen für euch die ganze Nacht Neo Soul\, Beats\, R&B und Rap.\nKali Uchis trifft auf A$AP Rocky\, SZA trifft auf Vince Staples. Das wird schön!
URL:https://weltecho.eu/veranstaltung/buzzin-presented-by-masa-kid-pedro/
LOCATION:Club\, Annaberger Str. 24\, Chemnitz\, Sachsen\, 09111\, Deutschland
CATEGORIES:Party
ATTACH;FMTTYPE=image/png:https://weltecho.eu/wp-content/uploads/Buzzin_20_05_2023_FB_Event.png
GEO:50.8284759;12.9205225
X-APPLE-STRUCTURED-LOCATION;VALUE=URI;X-ADDRESS=Club Annaberger Str. 24 Chemnitz Sachsen 09111 Deutschland;X-APPLE-RADIUS=500;X-TITLE=Annaberger Str. 24:geo:12.9205225,50.8284759
END:VEVENT
END:VCALENDAR