BEGIN:VCALENDAR
VERSION:2.0
PRODID:-//Weltecho - ECPv5.16.2.1//NONSGML v1.0//EN
CALSCALE:GREGORIAN
METHOD:PUBLISH
X-WR-CALNAME:Weltecho
X-ORIGINAL-URL:https://weltecho.eu
X-WR-CALDESC:Veranstaltungen für Weltecho
BEGIN:VTIMEZONE
TZID:Europe/Berlin
BEGIN:DAYLIGHT
TZOFFSETFROM:+0100
TZOFFSETTO:+0200
TZNAME:CEST
DTSTART:20230326T010000
END:DAYLIGHT
BEGIN:STANDARD
TZOFFSETFROM:+0200
TZOFFSETTO:+0100
TZNAME:CET
DTSTART:20231029T010000
END:STANDARD
END:VTIMEZONE
BEGIN:VEVENT
DTSTART;TZID=Europe/Berlin:20230525T190000
DTEND;TZID=Europe/Berlin:20230525T210000
DTSTAMP:20260420T141929
CREATED:20230430T134952Z
LAST-MODIFIED:20230430T134952Z
UID:30263-1685041200-1685048400@weltecho.eu
SUMMARY:Air - Der große Wurf
DESCRIPTION:Biopic | USA 2023 | 112 Min.\nRegie: Ben Affleck\nDarsteller*innen: Matt Damon\, Jason Bateman\, Ben Affleck\n\nDer auf Laufschuhe spezialisierte US-Konzern Nike will im Jahr 1984 seine wirtschaftliche Misere beenden und einen riskanten Deal mit dem damals noch kaum bekannten Basketballer Michael Jordan landen. Die Strategie besteht darin\, dass der Sportler kein austauschbares Werbegesicht mehr ist\, sondern der beworbene Schuh zum Ausdruck seiner Persönlichkeit wird. Anhand der Figur eines Marketing-Experten zeichnet der Film die mühsame Überzeugungsarbeit nach und porträtiert nebenbei die mittelalten Männer im Unternehmen\, die sich auf ein letztes Abenteuer einlassen. Mit einem ausgezeichneten Ensemble erzählt der auf wahren Ereignissen fußende Film fesselnd von kapitalistischem Individualitätskult und der geschickten Inszenierung von Authentizität.
URL:https://weltecho.eu/veranstaltung/air-der-grosse-wurf/2023-05-25/
LOCATION:Kino\, Annaberger Str. 24\, Chemnitz\, Sachsen\, 09111\, Deutschland
CATEGORIES:Film
ATTACH;FMTTYPE=image/jpeg:https://weltecho.eu/wp-content/uploads/airhoch.jpg
GEO:50.8284759;12.9205225
X-APPLE-STRUCTURED-LOCATION;VALUE=URI;X-ADDRESS=Kino Annaberger Str. 24 Chemnitz Sachsen 09111 Deutschland;X-APPLE-RADIUS=500;X-TITLE=Annaberger Str. 24:geo:12.9205225,50.8284759
END:VEVENT
BEGIN:VEVENT
DTSTART;TZID=Europe/Berlin:20230525T203000
DTEND;TZID=Europe/Berlin:20230525T230000
DTSTAMP:20260420T141929
CREATED:20220408T203911Z
LAST-MODIFIED:20230529T212711Z
UID:23966-1685046600-1685055600@weltecho.eu
SUMMARY:BROM [20230525]
DESCRIPTION:Die Versuchsanordnung ist schnell erklärt. In elementarer Besetzung spielt das Berliner Trio BROM seit 2010 eigene und freie Musik. Als stoffliche Grundlage dafür dienen die offenen Kompositionen des Saxophonisten Alexander Beierbach – für ihn und seine Ko-Laboranten Jan Roder am Bass und Christian Marien am Schlagzeug Start- und Zielpunkte für brodelnde improvisatorische Reaktionsprozesse\, großzügige Bögen und Klangexplosionen. \nIn der Musik des Trios BROM sind die komponierten und die improvisierten Anteile dicht verwoben. Das komponierte Ausgangsmaterial wird im Verlauf längerer Bögen immer wieder aufs Neue auseinander genommen und wieder zusammengesetzt oder auch in verschiedensten Kombinationen übereinander geschichtet. Die Musik entwickelt sich bei jedem Konzert aus einem neuen Zusammenhang und in eine andere Richtung. So entstehen jedes Mal unterschiedlichste Ausgangspunkte sowohl für die Improvisationen der drei Musiker als auch für die Interpretation des komponierten Materials. \nAlexander Beierbach – Saxophon\nJan Roder – Bass\nChristian Marien – Schlagzeug \n\nhttps://weltecho.eu/wp-content/uploads/20230525_Brom_12min_768-2.mp4
URL:https://weltecho.eu/veranstaltung/brom/
LOCATION:Cafe\, Annaberger Str. 24\, Chemnitz\, Sachsen\, 09111\, Deutschland
CATEGORIES:All That Jazz,Konzert
ATTACH;FMTTYPE=image/jpeg:https://weltecho.eu/wp-content/uploads/Brom_2.jpg
GEO:50.8284759;12.9205225
X-APPLE-STRUCTURED-LOCATION;VALUE=URI;X-ADDRESS=Cafe Annaberger Str. 24 Chemnitz Sachsen 09111 Deutschland;X-APPLE-RADIUS=500;X-TITLE=Annaberger Str. 24:geo:12.9205225,50.8284759
END:VEVENT
END:VCALENDAR