BEGIN:VCALENDAR
VERSION:2.0
PRODID:-//Weltecho - ECPv5.16.2.1//NONSGML v1.0//EN
CALSCALE:GREGORIAN
METHOD:PUBLISH
X-WR-CALNAME:Weltecho
X-ORIGINAL-URL:https://weltecho.eu
X-WR-CALDESC:Veranstaltungen für Weltecho
BEGIN:VTIMEZONE
TZID:Europe/Berlin
BEGIN:DAYLIGHT
TZOFFSETFROM:+0100
TZOFFSETTO:+0200
TZNAME:CEST
DTSTART:20230326T010000
END:DAYLIGHT
BEGIN:STANDARD
TZOFFSETFROM:+0200
TZOFFSETTO:+0100
TZNAME:CET
DTSTART:20231029T010000
END:STANDARD
END:VTIMEZONE
BEGIN:VEVENT
DTSTART;TZID=Europe/Berlin:20230526T230000
DTEND;TZID=Europe/Berlin:20230527T050000
DTSTAMP:20260420T141827
CREATED:20230522T082434Z
LAST-MODIFIED:20230522T082722Z
UID:30430-1685142000-1685163600@weltecho.eu
SUMMARY:Party ist für Alle da!
DESCRIPTION:Am 26.05. um 23:00 Uhr findet die nächste „Party ist für Alle da!“ statt ✨ \n☝🏼 Party ist Kultur. Kultur muss zugänglich sein. Für Alle. ☝🏼\nUnd weil wir es super finden\, wenn Kultur für Alle zugänglich ist\, heißt es ab einmal im Monat: PARTY IST FÜR ALLE DA! \nDJs: Izzy & Tempo114\nEintritt frei! | P18 | Weltecho Club\n🪩 Alle am Format beteiligten Künstler*innen werden natürlich bezahlt. Denn Kultur muss finanziell honoriert werden. Wenn du das Format unterstützen kannst\, dann gib gern einen Solibeitrag am Einlass. \n❤️ Alle Menschen sollen sich bei uns wohlfühlen. Seid respektvoll miteinander. Diskriminierungen (Rassismus\, Sexismus\, Queerfeindlichkeit\, Ableismus und jede andere gruppenbezogene Menschenfeindlichkeit) sowie Gewalt jeglicher Art\, persönlicher Grenzüberschreitung und Beleidigung werden bei uns nicht toleriert & führen zum Ausschluss. Achtet auf einander. Wenn euch was auffällt\, oder ihr betroffen seid: Meldet euch bei unserem Personal. Wir sind für euch da!\nWir freuen uns auf euch!
URL:https://weltecho.eu/veranstaltung/party-ist-fuer-alle-da-6/
LOCATION:Club\, Annaberger Str. 24\, Chemnitz\, Sachsen\, 09111\, Deutschland
CATEGORIES:Party
ATTACH;FMTTYPE=image/png:https://weltecho.eu/wp-content/uploads/WE_PIFAD_Mai_Event_05.2023_RZ-1.png
GEO:50.8284759;12.9205225
X-APPLE-STRUCTURED-LOCATION;VALUE=URI;X-ADDRESS=Club Annaberger Str. 24 Chemnitz Sachsen 09111 Deutschland;X-APPLE-RADIUS=500;X-TITLE=Annaberger Str. 24:geo:12.9205225,50.8284759
END:VEVENT
BEGIN:VEVENT
DTSTART;TZID=Europe/Berlin:20230527T150000
DTEND;TZID=Europe/Berlin:20230527T220000
DTSTAMP:20260420T141827
CREATED:20230521T123204Z
LAST-MODIFIED:20230521T123414Z
UID:30421-1685199600-1685224800@weltecho.eu
SUMMARY:Zwischenwelten. Kunstmarkt & Ausstellung
DESCRIPTION:Am 27.05 startet die digitale Ausstellung “Zwischenwelten” bei uns. Eröffnet wird der digitale Katalog mit einem Kunstmarkt und DJs im Hof und der Ausstellunga-Präsentation im Studio. Mit dabei sind unter anderem Absolution clothing und die Künstler*innen der Ausstellung. Kommt ab 15 Uhr vorbei wir freuen uns auf euch! 🥰
URL:https://weltecho.eu/veranstaltung/zwischenwelten-kunstmarkt-ausstellung/
LOCATION:Städtische Musikschule\, Gerichtststrasse 1\, Chemnitz\, Sachsen\, 09112\, Deutschland
CATEGORIES:Ausstellung
ATTACH;FMTTYPE=image/jpeg:https://weltecho.eu/wp-content/uploads/zwischenwelten_FB_2023.jpg
GEO:50.8284759;12.9205225
X-APPLE-STRUCTURED-LOCATION;VALUE=URI;X-ADDRESS=Städtische Musikschule Gerichtststrasse 1 Chemnitz Sachsen 09112 Deutschland;X-APPLE-RADIUS=500;X-TITLE=Gerichtststrasse 1:geo:12.9205225,50.8284759
END:VEVENT
BEGIN:VEVENT
DTSTART;TZID=Europe/Berlin:20230527T230000
DTEND;TZID=Europe/Berlin:20230528T050000
DTSTAMP:20260420T141827
CREATED:20230522T081333Z
LAST-MODIFIED:20230522T081333Z
UID:30427-1685228400-1685250000@weltecho.eu
SUMMARY:Cheers Queers
DESCRIPTION:Achtung es gibt etwas zum anstoßen \nAm 27.05.2023 um 23 Uhr findet unsere queere Party\nCHEERS QUEERS statt \nUnd dazu kommen großartige DJs zu uns\, um dies gebührend zu feiern:\nstoehrlinski\nSelavie\nSvenzki\nHaltet euch daher den Abend frei und lasst uns gemeinsam in einem Safer Space als queere Menschen feiern. Allies sind ebenso willkommen 
URL:https://weltecho.eu/veranstaltung/cheers-queers-3/
LOCATION:Club\, Annaberger Str. 24\, Chemnitz\, Sachsen\, 09111\, Deutschland
CATEGORIES:Party
ATTACH;FMTTYPE=image/jpeg:https://weltecho.eu/wp-content/uploads/Cheers_Queers_FB_Event.jpg
GEO:50.8284759;12.9205225
X-APPLE-STRUCTURED-LOCATION;VALUE=URI;X-ADDRESS=Club Annaberger Str. 24 Chemnitz Sachsen 09111 Deutschland;X-APPLE-RADIUS=500;X-TITLE=Annaberger Str. 24:geo:12.9205225,50.8284759
END:VEVENT
END:VCALENDAR