BEGIN:VCALENDAR
VERSION:2.0
PRODID:-//Weltecho - ECPv5.16.2.1//NONSGML v1.0//EN
CALSCALE:GREGORIAN
METHOD:PUBLISH
X-WR-CALNAME:Weltecho
X-ORIGINAL-URL:https://weltecho.eu
X-WR-CALDESC:Veranstaltungen für Weltecho
BEGIN:VTIMEZONE
TZID:Europe/Berlin
BEGIN:DAYLIGHT
TZOFFSETFROM:+0100
TZOFFSETTO:+0200
TZNAME:CEST
DTSTART:20230326T010000
END:DAYLIGHT
BEGIN:STANDARD
TZOFFSETFROM:+0200
TZOFFSETTO:+0100
TZNAME:CET
DTSTART:20231029T010000
END:STANDARD
END:VTIMEZONE
BEGIN:VEVENT
DTSTART;TZID=Europe/Berlin:20230608T190000
DTEND;TZID=Europe/Berlin:20230608T210000
DTSTAMP:20260420T154408
CREATED:20230524T183332Z
LAST-MODIFIED:20230524T183332Z
UID:30544-1686250800-1686258000@weltecho.eu
SUMMARY:The Whale
DESCRIPTION:Drama | USA 2022 | 117 Min.\nRegie: Darren Aronofsky\n\nDarsteller*innen: Brendan Fraser\, Sadie Sink\, Ty Simpkins\nEin extrem übergewichtiger Dozent für kreatives Schreiben\, der einsam und allein in einem schäbigen Haus lebt\, erfährt\, dass er wegen eines Herzleidens nicht mehr lange zu leben hat. Kurz vor seinem Tod will er sich mit seiner heranwachsenden Tochter und ihrer Mutter aussöhnen\, die er wegen seines schwulen Partners verlassen hat. Mitreißendes Drama\, das vor allem durch die äußere Verwandlung des Hauptdarstellers und seine glaubwürdige Darstellung Aufsehen erregt. Trotz einer Tendenz zum Pathos ein Film\, der intensiv von der ambivalenten Kraft zwischenmenschlicher Beziehungen sowie des Glaubens erzählt\, die gleichermaßen zutiefst verletzen wie Halt und Hoffnung geben können.
URL:https://weltecho.eu/veranstaltung/the-whale/2023-06-08/
LOCATION:Kino\, Annaberger Str. 24\, Chemnitz\, Sachsen\, 09111\, Deutschland
CATEGORIES:Film
ATTACH;FMTTYPE=image/jpeg:https://weltecho.eu/wp-content/uploads/thewhalehoch.jpg
GEO:50.8284759;12.9205225
X-APPLE-STRUCTURED-LOCATION;VALUE=URI;X-ADDRESS=Kino Annaberger Str. 24 Chemnitz Sachsen 09111 Deutschland;X-APPLE-RADIUS=500;X-TITLE=Annaberger Str. 24:geo:12.9205225,50.8284759
END:VEVENT
BEGIN:VEVENT
DTSTART;TZID=Europe/Berlin:20230608T200000
DTEND;TZID=Europe/Berlin:20230608T223000
DTSTAMP:20260420T154408
CREATED:20220413T092024Z
LAST-MODIFIED:20230610T092631Z
UID:24026-1686254400-1686263400@weltecho.eu
SUMMARY:Mehr als Wir [20230608]
DESCRIPTION:Matthias Ehrig (Akustikgitarre\, E-Gitarre\, Stompbox) und\nAndreas Uhlmann (Posaune\, Flügelhorn\, Glockenspiel\, Beatbox\, Synthesizer) \n… sind “Mehr Als Wir”. Der Bandname ist ein Versprechen. Über Loop-Techniken und ausgefuchste Arrangements erzeugen die beiden Musiker einen unerwartet vollen Bandsound. Stilistisch realisieren “Mehr Als Wir” eine Durchmischung von Pop\, Jazz\, EDM und akustischer Weltmusik. Trotz diverser Abstecher in die Ernsthaftigkeiten des Lebens macht die Musik der Band einfach Freude. Die Stücke sind voll von Wendungen und Überraschungen. Wie Bilder auf Fotopapier in einer Dunkelkammer entwickeln sich ihre Lieder – um zu bleiben. \n“Mehr Als Wir” machen Instrumentalmusik. Nicht ohne bei ihren Konzerten die den Stücken zugrundeliegenden – teils opulenten – Geschichten zu erzählen und akustisch auszumalen. \n\nhttps://weltecho.eu/wp-content/uploads/20230608_mweh_als_wir_8min_1080.mp4
URL:https://weltecho.eu/veranstaltung/mehr-als-wir/
LOCATION:Hof\, Annaberger Str. 24\, Chemnitz\, Sachsen\, 09111\, Deutschland
CATEGORIES:All That Jazz
ATTACH;FMTTYPE=image/jpeg:https://weltecho.eu/wp-content/uploads/210626_mehralswir_6025.jpg
GEO:50.8284759;12.9205225
X-APPLE-STRUCTURED-LOCATION;VALUE=URI;X-ADDRESS=Hof Annaberger Str. 24 Chemnitz Sachsen 09111 Deutschland;X-APPLE-RADIUS=500;X-TITLE=Annaberger Str. 24:geo:12.9205225,50.8284759
END:VEVENT
END:VCALENDAR