BEGIN:VCALENDAR
VERSION:2.0
PRODID:-//Weltecho - ECPv5.16.2.1//NONSGML v1.0//EN
CALSCALE:GREGORIAN
METHOD:PUBLISH
X-WR-CALNAME:Weltecho
X-ORIGINAL-URL:https://weltecho.eu
X-WR-CALDESC:Veranstaltungen für Weltecho
BEGIN:VTIMEZONE
TZID:Europe/Berlin
BEGIN:DAYLIGHT
TZOFFSETFROM:+0100
TZOFFSETTO:+0200
TZNAME:CEST
DTSTART:20230326T010000
END:DAYLIGHT
BEGIN:STANDARD
TZOFFSETFROM:+0200
TZOFFSETTO:+0100
TZNAME:CET
DTSTART:20231029T010000
END:STANDARD
END:VTIMEZONE
BEGIN:VEVENT
DTSTART;TZID=Europe/Berlin:20230612T190000
DTEND;TZID=Europe/Berlin:20230612T210000
DTSTAMP:20260424T131505
CREATED:20230524T184031Z
LAST-MODIFIED:20230524T184420Z
UID:30550-1686596400-1686603600@weltecho.eu
SUMMARY:Wenzel - Glaubt nie\, was ich singe
DESCRIPTION:Dokumentarfilm | D 2022 | 106 Min.\nRegie: Lew Hohmann\n\n\nDer 1955 geborene Hans-Eckardt Wenzel avancierte in der DDR zur Kultfigur. Mit seinen clownesken bis dadaistischen Konzerten begeisterte der Poet und Liedermacher seine Fans und entging durch die besondere Art seiner Texte weitgehend der Stasi. Auch nach der Wende arbeitete Wenzel unverdrossen weiter und produzierte rund fünfzig Alben. Der Dokumentarfilm begleitet den Künstler über einen längeren Zeitraum während der Corona-Pandemie\, lässt ihn selbst aus seinem bewegten Leben erzählen\, aber auch zahlreiche prominente Fans zu Wort kommen. Vor allem die Archiv-Sequenzen warten durchaus mit echten Überraschungen auf.
URL:https://weltecho.eu/veranstaltung/wenzel-glaubt-nie-was-ich-singe/2023-06-12/
LOCATION:Kino\, Annaberger Str. 24\, Chemnitz\, Sachsen\, 09111\, Deutschland
CATEGORIES:Film
ATTACH;FMTTYPE=image/jpeg:https://weltecho.eu/wp-content/uploads/wenzelhoch.jpg
GEO:50.8284759;12.9205225
X-APPLE-STRUCTURED-LOCATION;VALUE=URI;X-ADDRESS=Kino Annaberger Str. 24 Chemnitz Sachsen 09111 Deutschland;X-APPLE-RADIUS=500;X-TITLE=Annaberger Str. 24:geo:12.9205225,50.8284759
END:VEVENT
BEGIN:VEVENT
DTSTART;TZID=Europe/Berlin:20230612T200000
DTEND;TZID=Europe/Berlin:20230612T223000
DTSTAMP:20260424T131505
CREATED:20230420T135057Z
LAST-MODIFIED:20230420T140130Z
UID:30107-1686600000-1686609000@weltecho.eu
SUMMARY:Eske Bockelmann und Burkhard Müller lesen und stellen vor: Blaue Blumen
DESCRIPTION:Die Blaue Blume gilt als Symbol der Romantik. Aber es existieren auch ganz unromantische blaue Blumen – drei von ihnen wollen wir in diesem Sommer vorstellen: \n“Blauer Hibiskus” von Chimamanda Ngozi Adichie: die Geschichte einer jungen Nigerianerin\, die in einer streng katholischen Familie und in politisch unsicherer Zeit aufwächst.\n“Die blaue Chrysantheme” von Karel Capek\, einem tschechischen Autor der Zwischenkriegszeit mit viel skurrilem Humor.\n“Blaue Rose” von Peter Straub\, einem amerikanischen Noir-Autor\, der mehrere Bücher zusammen mit Stephen King geschrieben hat\, aber eigentlich noch besser ist als King. \n 
URL:https://weltecho.eu/veranstaltung/eske-bockelmann-und-burkhard-mueller-lesen-und-stellen-vor-blaue-blumen/
LOCATION:Cafe\, Annaberger Str. 24\, Chemnitz\, Sachsen\, 09111\, Deutschland
CATEGORIES:Lesung
ATTACH;FMTTYPE=image/jpeg:https://weltecho.eu/wp-content/uploads/Bockelmann_Mueller.jpg
GEO:50.8284759;12.9205225
X-APPLE-STRUCTURED-LOCATION;VALUE=URI;X-ADDRESS=Cafe Annaberger Str. 24 Chemnitz Sachsen 09111 Deutschland;X-APPLE-RADIUS=500;X-TITLE=Annaberger Str. 24:geo:12.9205225,50.8284759
END:VEVENT
END:VCALENDAR