BEGIN:VCALENDAR
VERSION:2.0
PRODID:-//Weltecho - ECPv5.16.2.1//NONSGML v1.0//EN
CALSCALE:GREGORIAN
METHOD:PUBLISH
X-WR-CALNAME:Weltecho
X-ORIGINAL-URL:https://weltecho.eu
X-WR-CALDESC:Veranstaltungen für Weltecho
BEGIN:VTIMEZONE
TZID:Europe/Berlin
BEGIN:DAYLIGHT
TZOFFSETFROM:+0100
TZOFFSETTO:+0200
TZNAME:CEST
DTSTART:20230326T010000
END:DAYLIGHT
BEGIN:STANDARD
TZOFFSETFROM:+0200
TZOFFSETTO:+0100
TZNAME:CET
DTSTART:20231029T010000
END:STANDARD
END:VTIMEZONE
BEGIN:VEVENT
DTSTART;TZID=Europe/Berlin:20230614T180000
DTEND;TZID=Europe/Berlin:20230614T180000
DTSTAMP:20260420T155154
CREATED:20230608T152856Z
LAST-MODIFIED:20230608T153057Z
UID:30882-1686765600-1686765600@weltecho.eu
SUMMARY:Umsonst & Draussen – Mittwochs im Hof
DESCRIPTION:Jeden Mittwoch laden wir euch zu “Umsonst & Draussen – Mittwochs im Hof” ein. *\nWechselnde DJs spielen für euch Sets für und kühle Getränken gibt es an unserer Hofbar.\nEintritt frei. 18-22 Uhr. \nDanach geht’s ab 23 Uhr bei “Rein & Tanzen” im Club – eure wöchentliche Mittwochsparty im Weltecho – weiter. Eintritt frei. \n* Bei schlechtem Wetter im Weltecho Studio.
URL:https://weltecho.eu/veranstaltung/umsonst-draussen-mittwochs-im-hof-6/2023-06-14/
LOCATION:Hof\, Annaberger Str. 24\, Chemnitz\, Sachsen\, 09111\, Deutschland
CATEGORIES:Open Air
ATTACH;FMTTYPE=image/jpeg:https://weltecho.eu/wp-content/uploads/Bildschirmfoto-2023-06-08-um-17.27.20.jpg
GEO:50.8284759;12.9205225
X-APPLE-STRUCTURED-LOCATION;VALUE=URI;X-ADDRESS=Hof Annaberger Str. 24 Chemnitz Sachsen 09111 Deutschland;X-APPLE-RADIUS=500;X-TITLE=Annaberger Str. 24:geo:12.9205225,50.8284759
END:VEVENT
END:VCALENDAR