BEGIN:VCALENDAR
VERSION:2.0
PRODID:-//Weltecho - ECPv5.16.2.1//NONSGML v1.0//EN
CALSCALE:GREGORIAN
METHOD:PUBLISH
X-WR-CALNAME:Weltecho
X-ORIGINAL-URL:https://weltecho.eu
X-WR-CALDESC:Veranstaltungen für Weltecho
BEGIN:VTIMEZONE
TZID:Europe/Berlin
BEGIN:DAYLIGHT
TZOFFSETFROM:+0100
TZOFFSETTO:+0200
TZNAME:CEST
DTSTART:20230326T010000
END:DAYLIGHT
BEGIN:STANDARD
TZOFFSETFROM:+0200
TZOFFSETTO:+0100
TZNAME:CET
DTSTART:20231029T010000
END:STANDARD
END:VTIMEZONE
BEGIN:VEVENT
DTSTART;TZID=Europe/Berlin:20230617T230000
DTEND;TZID=Europe/Berlin:20230618T050000
DTSTAMP:20260420T154642
CREATED:20230608T161838Z
LAST-MODIFIED:20230608T161838Z
UID:30970-1687042800-1687064400@weltecho.eu
SUMMARY:Indie Disco
DESCRIPTION:Am 17.06. um 23:00 Uhr findet unsere Indie Disco im Weltecho Club statt und es sind die beiden großartigen DJs Ms. Lightning & Selavie mit dabei!\nINDIE DISCO SOUNDS LIKE:\nLEONIDEN\, Provinz\, Love A\, Bilderbuch\, AnnenMayKantereit\, The Wombats\, Say Yes Dog\, The Klaxons\, Interpol\, The Kooks\, TV on the Radio\, Tomte\, Werner Krauss\, We Were Promised Jetpacks\, The Drums\, Kasabian\, Shout Out Louds\, Arcade Fire\, Kraftklub\, Caribou\, Yucca\, I heart Sharks\, Untertagen\, Two Door Cinema Club\, Blood Red Shoes\, Metronomy\, Tokyo Police Club\, The Answering Machine\, Bonaparte\, Digitalism\, Dendemann\, Captain Capa\, The XX\, Totally Enormous Extinct Dinosaurs\, The Strokes\, The Sounds\, Robyn\, Razorlight\, The Rakes\, Alt-J\, Kele\, Wilhelm Tell me\, Red Ink\, Foals\, Chet Faker\, Zoot Woman\, Feist\, Sekouia\, Kakkmaddafakka\, Milky Chance und und und…
URL:https://weltecho.eu/veranstaltung/indie-disco-4/
LOCATION:Club\, Annaberger Str. 24\, Chemnitz\, Sachsen\, 09111\, Deutschland
CATEGORIES:Party
ATTACH;FMTTYPE=image/jpeg:https://weltecho.eu/wp-content/uploads/Indie_Disco_17_06_2023_FB.jpg
GEO:50.8284759;12.9205225
X-APPLE-STRUCTURED-LOCATION;VALUE=URI;X-ADDRESS=Club Annaberger Str. 24 Chemnitz Sachsen 09111 Deutschland;X-APPLE-RADIUS=500;X-TITLE=Annaberger Str. 24:geo:12.9205225,50.8284759
END:VEVENT
END:VCALENDAR