BEGIN:VCALENDAR
VERSION:2.0
PRODID:-//Weltecho - ECPv5.16.2.1//NONSGML v1.0//EN
CALSCALE:GREGORIAN
METHOD:PUBLISH
X-WR-CALNAME:Weltecho
X-ORIGINAL-URL:https://weltecho.eu
X-WR-CALDESC:Veranstaltungen für Weltecho
BEGIN:VTIMEZONE
TZID:Europe/Berlin
BEGIN:DAYLIGHT
TZOFFSETFROM:+0100
TZOFFSETTO:+0200
TZNAME:CEST
DTSTART:20230326T010000
END:DAYLIGHT
BEGIN:STANDARD
TZOFFSETFROM:+0200
TZOFFSETTO:+0100
TZNAME:CET
DTSTART:20231029T010000
END:STANDARD
END:VTIMEZONE
BEGIN:VEVENT
DTSTART;TZID=Europe/Berlin:20230623T200000
DTEND;TZID=Europe/Berlin:20230623T230000
DTSTAMP:20260424T103757
CREATED:20230620T132247Z
LAST-MODIFIED:20230621T092412Z
UID:31212-1687550400-1687561200@weltecho.eu
SUMMARY:TanzModerneTanz Festival: SALSA4YOU
DESCRIPTION:Lust auf SALSA? Endlich wieder das Tanzbein schwingen und gemütlich den Abend ausklingen lassen. Dann auf ins Weltecho! Freuen Sie sich auf einen feurigen Mix aus Salsa\, Cha-Cha-Cha\, Cuban\, Bachata und Merengue.\nSalsa mit DJ Chico\nIm Rahmen von TanzModerneTanz Festival
URL:https://weltecho.eu/veranstaltung/salsa4you/
LOCATION:Hof\, Annaberger Str. 24\, Chemnitz\, Sachsen\, 09111\, Deutschland
CATEGORIES:Tanz
ATTACH;FMTTYPE=image/jpeg:https://weltecho.eu/wp-content/uploads/weltecho-verein-oscar.jpg
GEO:50.8284759;12.9205225
X-APPLE-STRUCTURED-LOCATION;VALUE=URI;X-ADDRESS=Hof Annaberger Str. 24 Chemnitz Sachsen 09111 Deutschland;X-APPLE-RADIUS=500;X-TITLE=Annaberger Str. 24:geo:12.9205225,50.8284759
END:VEVENT
BEGIN:VEVENT
DTSTART;TZID=Europe/Berlin:20230623T230000
DTEND;TZID=Europe/Berlin:20230624T230000
DTSTAMP:20260424T103757
CREATED:20230619T193126Z
LAST-MODIFIED:20230619T193214Z
UID:31209-1687561200-1687647600@weltecho.eu
SUMMARY:Party ist für Alle da! Mit TINTIN & Krukk
DESCRIPTION:Am 23.06. um 23:00 Uhr findet die nächste „Party ist für alle da!“ statt ✨ \n☝🏼 Party ist Kultur. Kultur muss zugänglich sein. Für Alle. ☝🏼\nUnd weil wir es super finden\, wenn Kultur für Alle zugänglich ist\, heißt es ab einmal im Monat: PARTY IST FÜR ALLE DA! \nDJs: TINTIN & krukk\nEintritt frei! | P18 | Weltecho Club\n🪩 Alle am Format beteiligten Künstler*innen werden natürlich bezahlt. Denn Kultur muss finanziell honoriert werden. Wenn du das Format unterstützen kannst\, dann gib gern einen Solibeitrag am Einlass. \n❤️ Alle Menschen sollen sich bei uns wohlfühlen. Seid respektvoll miteinander. Diskriminierungen (Rassismus\, Sexismus\, Queerfeindlichkeit\, Ableismus und jede andere gruppenbezogene Menschenfeindlichkeit) sowie Gewalt jeglicher Art\, persönlicher Grenzüberschreitung und Beleidigung werden bei uns nicht toleriert & führen zum Ausschluss. Achtet auf einander. Wenn euch was auffällt\, oder ihr betroffen seid: Meldet euch bei unserem Personal. Wir sind für euch da!\nWir freuen uns auf euch!
URL:https://weltecho.eu/veranstaltung/party-ist-fuer-alle-da-mit-tintin-krukk/
LOCATION:Club\, Annaberger Str. 24\, Chemnitz\, Sachsen\, 09111\, Deutschland
CATEGORIES:Party
ATTACH;FMTTYPE=image/png:https://weltecho.eu/wp-content/uploads/WE_PIFAD_Juni_Post_06.2023_RZ_v2.png
GEO:50.8284759;12.9205225
X-APPLE-STRUCTURED-LOCATION;VALUE=URI;X-ADDRESS=Club Annaberger Str. 24 Chemnitz Sachsen 09111 Deutschland;X-APPLE-RADIUS=500;X-TITLE=Annaberger Str. 24:geo:12.9205225,50.8284759
END:VEVENT
END:VCALENDAR