BEGIN:VCALENDAR
VERSION:2.0
PRODID:-//Weltecho - ECPv5.16.2.1//NONSGML v1.0//EN
CALSCALE:GREGORIAN
METHOD:PUBLISH
X-WR-CALNAME:Weltecho
X-ORIGINAL-URL:https://weltecho.eu
X-WR-CALDESC:Veranstaltungen für Weltecho
BEGIN:VTIMEZONE
TZID:Europe/Berlin
BEGIN:DAYLIGHT
TZOFFSETFROM:+0100
TZOFFSETTO:+0200
TZNAME:CEST
DTSTART:20230326T010000
END:DAYLIGHT
BEGIN:STANDARD
TZOFFSETFROM:+0200
TZOFFSETTO:+0100
TZNAME:CET
DTSTART:20231029T010000
END:STANDARD
END:VTIMEZONE
BEGIN:VEVENT
DTSTART;TZID=Europe/Berlin:20230626T190000
DTEND;TZID=Europe/Berlin:20230626T213000
DTSTAMP:20260420T155155
CREATED:20230525T140550Z
LAST-MODIFIED:20230525T140550Z
UID:30589-1687806000-1687815000@weltecho.eu
SUMMARY:Eyes Wide Shut - Filmische Hommage an György Ligeti
DESCRIPTION:Filmische Hommage an György Ligeti im Rahmen von\nKLANGWERK – Neue Musik/ backstage21:\nErotik-Drama | USA/Großbritannien 1999 | 155 Min.\nRegie: Stanley Kubrick\nMusik: u.a. György Ligeti\nDarsteller*innen: Tom Cruise\, Nicole Kidman\, Madison Eginton\n\nEin glücklich verheirateter junger Arzt wird aus seinem scheinbar gesicherten Leben aufgestört\, als ihm seine Frau gesteht\, dass sie von Fantasien und realen Erlebnissen oft an die Grenze ehelicher Untreue getrieben wird. Er gerät in eine Reihe sexueller Versuchungen\, denen er letztlich mehr durch zufällige Umstände als durch eigenes Zutun entgeht. In enger Anlehnung an Arthur Schnitzlers Traumnovelle (1925) beschwört Stanley Kubricks letzter Film in suggestiven Szenenfolgen die Zerstörbarkeit erotischer Liebe durch den sich verselbstständigenden sexuellen Trieb.
URL:https://weltecho.eu/veranstaltung/eyes-wide-shut-filmische-hommage-an-gyoergy-ligeti/
LOCATION:Kino\, Annaberger Str. 24\, Chemnitz\, Sachsen\, 09111\, Deutschland
CATEGORIES:Film
ATTACH;FMTTYPE=image/jpeg:https://weltecho.eu/wp-content/uploads/eyeshoch.jpg
GEO:50.8284759;12.9205225
X-APPLE-STRUCTURED-LOCATION;VALUE=URI;X-ADDRESS=Kino Annaberger Str. 24 Chemnitz Sachsen 09111 Deutschland;X-APPLE-RADIUS=500;X-TITLE=Annaberger Str. 24:geo:12.9205225,50.8284759
END:VEVENT
END:VCALENDAR