BEGIN:VCALENDAR
VERSION:2.0
PRODID:-//Weltecho - ECPv5.16.2.1//NONSGML v1.0//EN
CALSCALE:GREGORIAN
METHOD:PUBLISH
X-WR-CALNAME:Weltecho
X-ORIGINAL-URL:https://weltecho.eu
X-WR-CALDESC:Veranstaltungen für Weltecho
BEGIN:VTIMEZONE
TZID:Europe/Berlin
BEGIN:DAYLIGHT
TZOFFSETFROM:+0100
TZOFFSETTO:+0200
TZNAME:CEST
DTSTART:20230326T010000
END:DAYLIGHT
BEGIN:STANDARD
TZOFFSETFROM:+0200
TZOFFSETTO:+0100
TZNAME:CET
DTSTART:20231029T010000
END:STANDARD
END:VTIMEZONE
BEGIN:VEVENT
DTSTART;TZID=Europe/Berlin:20230628T190000
DTEND;TZID=Europe/Berlin:20230628T210000
DTSTAMP:20260420T155122
CREATED:20230525T143157Z
LAST-MODIFIED:20230525T143229Z
UID:30595-1687978800-1687986000@weltecho.eu
SUMMARY:The Shining - Filmische Hommage an György Ligeti
DESCRIPTION:Filmische Hommage an György Ligeti im Rahmen von\nKLANGWERK – Neue Musik/ backstage21:\nLiteraturverfilmung\, Horror\, USA 1980\, 119 Min.\nRegie: Stanley Kubrick\nMusik: u.a. György Ligeti\nDarsteller*innen: Jack Nicholson\, Shelley Duvall\, Danny Lloyd\n\nIn einem eingeschneiten Berghotel in Colorado verfällt ein Schriftsteller\, der dort mit seiner Familie als Hausmeister den Winter verbringt\, langsam dem Wahnsinn. Das labyrinthische Haus provoziert Halluzinationen und Angstträume\, stürzt den Mann in eine Identitätskrise und treibt ihn zur zwanghaften Wiederholung einer Bluttat\, die vor Jahren im Hotel geschah: Er attackiert seine Frau und seinen Sohn\, die mit knapper Not dem Mordanschlag entgehen. Nur an der Oberfläche ein effektvoller Horrorthriller\, ist der Film eine virtuos inszenierte Studie über die Wechselwirkung von Wirklichkeit und Schein\, Realität und Illusion\, über die traumatischen Abgründe\, die sich jenseits des gesunden Menschenverstandes auftun. Die konventionelle Fabel ist der Anlass für eine suggestive Symphonie des Schreckens\, die den Zuschauer in seinen Genreerwartungen bestätigt und seinen Blick jedoch zugleich in die Irre führt.
URL:https://weltecho.eu/veranstaltung/kino-the-shining-filmische-hommage-an-gyoergy-ligeti/
LOCATION:Kino\, Annaberger Str. 24\, Chemnitz\, Sachsen\, 09111\, Deutschland
CATEGORIES:Film
ATTACH;FMTTYPE=image/jpeg:https://weltecho.eu/wp-content/uploads/shininghoch.jpg
GEO:50.8284759;12.9205225
X-APPLE-STRUCTURED-LOCATION;VALUE=URI;X-ADDRESS=Kino Annaberger Str. 24 Chemnitz Sachsen 09111 Deutschland;X-APPLE-RADIUS=500;X-TITLE=Annaberger Str. 24:geo:12.9205225,50.8284759
END:VEVENT
END:VCALENDAR