BEGIN:VCALENDAR
VERSION:2.0
PRODID:-//Weltecho - ECPv5.16.2.1//NONSGML v1.0//EN
CALSCALE:GREGORIAN
METHOD:PUBLISH
X-WR-CALNAME:Weltecho
X-ORIGINAL-URL:https://weltecho.eu
X-WR-CALDESC:Veranstaltungen für Weltecho
BEGIN:VTIMEZONE
TZID:Europe/Berlin
BEGIN:DAYLIGHT
TZOFFSETFROM:+0100
TZOFFSETTO:+0200
TZNAME:CEST
DTSTART:20230326T010000
END:DAYLIGHT
BEGIN:STANDARD
TZOFFSETFROM:+0200
TZOFFSETTO:+0100
TZNAME:CET
DTSTART:20231029T010000
END:STANDARD
END:VTIMEZONE
BEGIN:VEVENT
DTSTART;TZID=Europe/Berlin:20230701T200000
DTEND;TZID=Europe/Berlin:20230702T050000
DTSTAMP:20260420T155240
CREATED:20230608T161614Z
LAST-MODIFIED:20230608T161614Z
UID:30967-1688241600-1688274000@weltecho.eu
SUMMARY:Club Closing
DESCRIPTION:Wir gehen mit dem Weltecho Club in die Sommerpause!\nDoch davor wollen wir noch ein letztes Mal mit euch und unseren DJ Residents & Friends im Club feiern. \nDabei sind: Cupca\, Franko B.\, izzy\, LAЯA & nihilino\, rolf0371\, Shusta\, stœhrlinski\, Svenzki\, zorro \nLos geht’s ab 20 Uhr entspannt im Hof und ab 22/23 Uhr starten wir im Club.
URL:https://weltecho.eu/veranstaltung/club-closing/
LOCATION:Club\, Annaberger Str. 24\, Chemnitz\, Sachsen\, 09111\, Deutschland
CATEGORIES:Open Air,Party
ATTACH;FMTTYPE=image/png:https://weltecho.eu/wp-content/uploads/WE_ClubClosing_Event_06.2023_WEB.png
GEO:50.8284759;12.9205225
X-APPLE-STRUCTURED-LOCATION;VALUE=URI;X-ADDRESS=Club Annaberger Str. 24 Chemnitz Sachsen 09111 Deutschland;X-APPLE-RADIUS=500;X-TITLE=Annaberger Str. 24:geo:12.9205225,50.8284759
END:VEVENT
END:VCALENDAR