BEGIN:VCALENDAR
VERSION:2.0
PRODID:-//Weltecho - ECPv5.16.2.1//NONSGML v1.0//EN
CALSCALE:GREGORIAN
METHOD:PUBLISH
X-WR-CALNAME:Weltecho
X-ORIGINAL-URL:https://weltecho.eu
X-WR-CALDESC:Veranstaltungen für Weltecho
BEGIN:VTIMEZONE
TZID:Europe/Berlin
BEGIN:DAYLIGHT
TZOFFSETFROM:+0100
TZOFFSETTO:+0200
TZNAME:CEST
DTSTART:20230326T010000
END:DAYLIGHT
BEGIN:STANDARD
TZOFFSETFROM:+0200
TZOFFSETTO:+0100
TZNAME:CET
DTSTART:20231029T010000
END:STANDARD
END:VTIMEZONE
BEGIN:VEVENT
DTSTART;TZID=Europe/Berlin:20230704T150000
DTEND;TZID=Europe/Berlin:20230704T170000
DTSTAMP:20260420T173649
CREATED:20230613T123735Z
LAST-MODIFIED:20230613T123735Z
UID:31027-1688482800-1688490000@weltecho.eu
SUMMARY:Jung\, laut\, sichtbar – Der Workshop für die Poetry Slam Show
DESCRIPTION:Poetry Slam ist das erfolgreichste Bühnenliteraturformat überhaupt und eine wunderbare Plattform\, um sich Gehör zu verschaffen. Und weil die jungen Generationen viel zu sagen haben\, fördert das Spektakel-Kollektiv im Rahmen der Kulturhauptstadt Poetry-Slam-Formate und -Workshops in und um Chemnitz\, um den Nachwuchs eine Bühne zu bieten. Bei der Poetry Slam Show am 04.07.23 im Innenhof des Weltechos stehen junge Slammer*innen aus verschiedenen Regionen Sachsens auf der Bühne und präsentieren ihre Texte. \nFür alle Auftretenden bieten wir von 15:00 – 17:00 Uhr einen kostenfreien Workshop an\, bei dem Birdy\, Inke und Linux eure Texte noch einmal vorab mit euch besprechen ein paar Tipps und Tricks zu Textvortrag und Performance mit euch teilen können. \nDer Eintritt ist frei! \nDu schreibst selbst\, bist maximal 20 Jahre alt und hast Lust deine Text einem Publikum zu präsentieren? Dann schreib und eine Mail an team@slam25.de oder sende uns einen Nachricht an den Instagram Account @spektakel_chemnitz \nDiese Maßnahme ist mitfinanziert durch Steuermittel auf der Grundlage des vom Sächsischen Landtag beschlossenem Haushalt und durch Bundesmittel der Beauftragten der Bundesregierung für Kultur und Medien.
URL:https://weltecho.eu/veranstaltung/jung-laut-sichtbar-der-workshop-fuer-die-poetry-slam-show/
LOCATION:Hof\, Annaberger Str. 24\, Chemnitz\, Sachsen\, 09111\, Deutschland
CATEGORIES:Poetry Slam
GEO:50.8284759;12.9205225
X-APPLE-STRUCTURED-LOCATION;VALUE=URI;X-ADDRESS=Hof Annaberger Str. 24 Chemnitz Sachsen 09111 Deutschland;X-APPLE-RADIUS=500;X-TITLE=Annaberger Str. 24:geo:12.9205225,50.8284759
END:VEVENT
BEGIN:VEVENT
DTSTART;TZID=Europe/Berlin:20230704T183000
DTEND;TZID=Europe/Berlin:20230704T183000
DTSTAMP:20260420T173649
CREATED:20230612T104126Z
LAST-MODIFIED:20230613T123742Z
UID:31022-1688495400-1688495400@weltecho.eu
SUMMARY:Jung\, laut\, sichtbar – Poetry Slam Show
DESCRIPTION:Poetry Slam ist das erfolgreichste Bühnenliteraturformat überhaupt und eine wunderbare Plattform\, um sich Gehör zu verschaffen. Und weil die jungen Generationen viel zu sagen haben\, fördert das Spektakel-Kollektiv im Rahmen der Kulturhauptstadt Poetry-Slam-Formate und -Workshops in und um Chemnitz\, um den Nachwuchs eine Bühne zu bieten. Bei der Poetry Slam Show am 04.07.23 im Innenhof des Weltechos stehen junge Slammer*innen aus verschiedenen Regionen Sachsens auf der Bühne und präsentieren ihre Texte. Gemeinsam mit den erfahrenen Poetry Slammer*innen Birdy\, Inke Sommerlang und Linux Wedemeyer wird es aber auch darum gehen\, wie man mit dem Schreiben anfängt\, wie man sich darin üben kann und wie sich der Weg auf die Poetry Slam Bühnen des gesamten Landes gestaltet. Ob jung oder jung geblieben\, ob Schüler*in oder Lehrkraft\, ob schreib- oder kulturbegeistert\, alle sind herzlich eingeladen und dürfen sich auf einen Abend voller junger und kreativer Perspektiven freuen. \nEinlass: 18:00 Uhr\nBeginn: 18:30 Uhr\nEnde: ca. 20:30 Uhr \nDer Eintritt ist frei! \nDie Veranstaltung ist bestuhlt. Indoor-Option ist vorhanden. \nDu schreibst selbst\, bist maximal 20 Jahre alt und hast Lust deine Text einem Publikum zu präsentieren? Dann schreib und eine Mail an team@slam25.de oder sende uns einen Nachricht an den Instagram Account @spektakel_chemnitz \nFür alle Auftretenden bieten wir am Veranstaltungstag von ca. 15:00 – 17:00 Uhr einen kostenfreien Workshop an\, bei dem Birdy\, Inke und Linux eure Texte noch einmal vorab mit euch besprechen ein paar Tipps und Tricks zu Textvortrag und Performance mit euch teilen können. \nDiese Maßnahme ist mitfinanziert durch Steuermittel auf der Grundlage des vom Sächsischen Landtag beschlossenem Haushalt und durch Bundesmittel der Beauftragten der Bundesregierung für Kultur und Medien.
URL:https://weltecho.eu/veranstaltung/jung-laut-sichtbar-poetry-slam-show/
LOCATION:Hof\, Annaberger Str. 24\, Chemnitz\, Sachsen\, 09111\, Deutschland
CATEGORIES:Poetry Slam
GEO:50.8284759;12.9205225
X-APPLE-STRUCTURED-LOCATION;VALUE=URI;X-ADDRESS=Hof Annaberger Str. 24 Chemnitz Sachsen 09111 Deutschland;X-APPLE-RADIUS=500;X-TITLE=Annaberger Str. 24:geo:12.9205225,50.8284759
END:VEVENT
END:VCALENDAR