BEGIN:VCALENDAR
VERSION:2.0
PRODID:-//Weltecho - ECPv5.16.2.1//NONSGML v1.0//EN
CALSCALE:GREGORIAN
METHOD:PUBLISH
X-WR-CALNAME:Weltecho
X-ORIGINAL-URL:https://weltecho.eu
X-WR-CALDESC:Veranstaltungen für Weltecho
BEGIN:VTIMEZONE
TZID:Europe/Berlin
BEGIN:DAYLIGHT
TZOFFSETFROM:+0100
TZOFFSETTO:+0200
TZNAME:CEST
DTSTART:20230326T010000
END:DAYLIGHT
BEGIN:STANDARD
TZOFFSETFROM:+0200
TZOFFSETTO:+0100
TZNAME:CET
DTSTART:20231029T010000
END:STANDARD
END:VTIMEZONE
BEGIN:VEVENT
DTSTART;TZID=Europe/Berlin:20230706T190000
DTEND;TZID=Europe/Berlin:20230706T230000
DTSTAMP:20260420T173227
CREATED:20230630T092016Z
LAST-MODIFIED:20230630T092016Z
UID:31379-1688670000-1688684400@weltecho.eu
SUMMARY:5. Weltecho Wizard Turnier
DESCRIPTION:An alle Zauberlehrlinge da draußen\, \nwir haben euer Flehen und Bitten endlich erhört und haben uns als Akademie der Magier:Innen überlegt\, dass nach eurem monatelangen Training zu Hause und vor allem bei uns im Studio ein Turnier stattfinden soll\, bei dem ihr eure Künste und Fähigkeiten unter Beweis stellen könnt.  \nIhr könnt euch ab sofort für das 5. Weltecho Wizard Turnier 2023 via Mail an anmeldung[at]weltecho.eu anmelden. \nFür die Anmeldung brauchen wir lediglich euren Namen bzw. euren Alias. Die Anmeldung ist notwendig\, um am Turnier teilnehmen zu können und wird von uns bestätigt. Damit habt ihr einen sicheren Platz im Turnier. \nBringt bitte gerne eure Kartenspiele mit\, da wir auch nicht so viele Spiele vor Ort haben. Wenn ihr ein Kartenspiel mitbringt\, gebt das bitte in der Anmeldung mit an und ihr erhaltet dafür eine Kleinigkeit an der Bar. \nDas Turnier findet in Gruppen in einem K.O.-System statt. Die Gruppen werden vor Ort ausgelost. Gespielt wird mit Standard-Kartenset und Standard-Regeln. Das Turnier findet im Club statt. Die fähigsten Lehrlinge unter euch erhalten einen legendäre Gabe unserer Akademie. \n Zuschauer:Innen können natürlich auch gerne vorbeikommen und mitfiebern.  \n 
URL:https://weltecho.eu/veranstaltung/wizard-turnier-2/
LOCATION:Studio\, Annaberger Str. 24\, Chemnitz\, Sachsen\, 09111\, Deutschland
CATEGORIES:Spiel & Spass
ATTACH;FMTTYPE=image/jpeg:https://weltecho.eu/wp-content/uploads/WE_Wizard_FB_Event_08.2022_WEB-1.jpg
END:VEVENT
END:VCALENDAR