BEGIN:VCALENDAR
VERSION:2.0
PRODID:-//Weltecho - ECPv5.16.2.1//NONSGML v1.0//EN
CALSCALE:GREGORIAN
METHOD:PUBLISH
X-WR-CALNAME:Weltecho
X-ORIGINAL-URL:https://weltecho.eu
X-WR-CALDESC:Veranstaltungen für Weltecho
BEGIN:VTIMEZONE
TZID:Europe/Berlin
BEGIN:DAYLIGHT
TZOFFSETFROM:+0100
TZOFFSETTO:+0200
TZNAME:CEST
DTSTART:20230326T010000
END:DAYLIGHT
BEGIN:STANDARD
TZOFFSETFROM:+0200
TZOFFSETTO:+0100
TZNAME:CET
DTSTART:20231029T010000
END:STANDARD
END:VTIMEZONE
BEGIN:VEVENT
DTSTART;TZID=Europe/Berlin:20230711T170000
DTEND;TZID=Europe/Berlin:20230711T200000
DTSTAMP:20260420T172901
CREATED:20230614T185135Z
LAST-MODIFIED:20230808T092404Z
UID:31056-1689094800-1689105600@weltecho.eu
SUMMARY:WIND OPERA · Ausstellung
DESCRIPTION:anija seedler & heike hennig im dialog mit dem wind\nKlangraum & Showroom: Vestas V150 Windpark Sitten\, Weltecho Chemnitz\, Weltroom. Konzept in vier Teilen: Performance\, Konzert\, Ausstellung\, Publikation \nFoto: © Gerhard Schlechte \nWIND OPERA ist Ritual und Prozess\, soziales Kunstwerk und Perpetuum mobilé. Der interdisziplinäre Parcours entfaltet sich durch Raum und Zeit und untersucht Wind in seiner politischen\, mythologischen und körperlichen Dimension. \nSeit Januar 2023 arbeiten Regisseurin Heike Hennig und die bildende Künstlerin Anija Seedler an einem Inszenierungskonzept für eine WIND OPERA.\nAm 9. Juni fand im Windpark Sitten bei rotierenden Windrädern und Scheinriesen der I. und II. Teil der offenen Partitur mit Gesang und Schauspiel statt. Zum großen Erstaunen des Publikums erklang erstmals in einem der höchsten Windräder Vestas barocke und zeitgenössische Musik.  \nWIND OPERA Teil III und IV wird nun in Form einer Ausstellung und Publikation im Weltecho Chemnitz präsentiert. Die WIND OPERA auf Papier zeigt als szenisch bildnerische Komposition vielfältige zeichnerische und installative Arbeiten aus dem Rechercheprozess von HENNIG & SEEDLER. WIND OPERA ist Windsbraut\, Don Quijote\, Rockband\, Sprunginnovation\, Schattenschlag\, Sektor Kopplung\, ist Boreas\, Euros\, Notos\, Zephyros\, die Kinder des Zeus\, ist die Synergie aus bildender und darstellender Kunst. Die Publikation als abschließender Teil der WIND OPERA erscheint am 11.8.2023 im weiw Verlag Stralsund Amsterdam und wird im Weltecho Chemnitz im Rahmen einer Finissage vorgestellt. \nAm Samstag\, 8. Juli 2023\, 20 Uhr laden wir Sie und Ihre Freunde herzlich zur Vernissage in unsere Galerie ein. Die Ausstellung ist bis zum 11. August 2023 von Dienstag bis Freitag 17 – 20 Uhr zu sehen. \nAm Freitag\, 11. August\, 18 Uhr laden wir sie zur Finissage + Buchveröffentlichung ein.
URL:https://weltecho.eu/veranstaltung/vernissage-16-3-2-2-3/2023-07-11/
LOCATION:Galerie\, Annaberger Str. 24\, Chemnitz\, Sachsen\, 09111\, Deutschland
CATEGORIES:Ausstellung
ATTACH;FMTTYPE=image/jpeg:https://weltecho.eu/wp-content/uploads/Seedler_karte_A5_4.jpg
GEO:50.8284759;12.9205225
X-APPLE-STRUCTURED-LOCATION;VALUE=URI;X-ADDRESS=Galerie Annaberger Str. 24 Chemnitz Sachsen 09111 Deutschland;X-APPLE-RADIUS=500;X-TITLE=Annaberger Str. 24:geo:12.9205225,50.8284759
END:VEVENT
BEGIN:VEVENT
DTSTART;TZID=Europe/Berlin:20230711T190000
DTEND;TZID=Europe/Berlin:20230711T220000
DTSTAMP:20260420T172901
CREATED:20221102T080759Z
LAST-MODIFIED:20230701T074828Z
UID:27217-1689102000-1689112800@weltecho.eu
SUMMARY:Café Philo - KUNST UND GESELLSCHAFT II
DESCRIPTION:“Mehr als sich Eure Schulweisheit träumen lässt”\nÜber Philosophie und Religion \nEs ist die Geschäftsgrundlage der europäischen Philosophie\, dass die Welt durch Vernunft erkannt werden kann\, weil sie vernünftig *ist*. “Denken und Sein ist dasselbe”\, heißt es bei Parmenides\, mit dem diese Tradition beginnt. Aber liegt darin nicht eine Selbstüberschätzung? Flankiert wurde die Philosophie je schon von anderen Strömungen wie Religion\, Mythologie und Kunst\, die zwar nicht widervernünftig auftraten\, sich aber dem Absolutismus der Rationalität verweigerten. Wir möchten versuchen\, mit Ihnen und Euch in einem ersten Anlauf das Verhältnis zwischen der Philosophie und ihrer ältesten und prominentesten Konkurrentin zu diskutieren. Wie stehen ihre Vorstellungen von Welt\, des Menschen und der Möglichkeit von Erkenntnis zueinander? \nDienstag\, 11.07.2023\, 19.00\nWeltecho\, Annaberger Str. 24\, 09111 Chemnitz \nModeration: Wolfram Ette\, Jan Friedrich \nDer Eintritt ist frei.
URL:https://weltecho.eu/veranstaltung/cafe-philo-diktatur-des-richtigen-2-2-2/
LOCATION:Cafe\, Annaberger Str. 24\, Chemnitz\, Sachsen\, 09111\, Deutschland
CATEGORIES:Bar,Lesung,Podiumsdiskussion,Workshop
GEO:50.8284759;12.9205225
X-APPLE-STRUCTURED-LOCATION;VALUE=URI;X-ADDRESS=Cafe Annaberger Str. 24 Chemnitz Sachsen 09111 Deutschland;X-APPLE-RADIUS=500;X-TITLE=Annaberger Str. 24:geo:12.9205225,50.8284759
END:VEVENT
END:VCALENDAR