BEGIN:VCALENDAR
VERSION:2.0
PRODID:-//Weltecho - ECPv5.16.2.1//NONSGML v1.0//EN
CALSCALE:GREGORIAN
METHOD:PUBLISH
X-WR-CALNAME:Weltecho
X-ORIGINAL-URL:https://weltecho.eu
X-WR-CALDESC:Veranstaltungen für Weltecho
BEGIN:VTIMEZONE
TZID:Europe/Berlin
BEGIN:DAYLIGHT
TZOFFSETFROM:+0100
TZOFFSETTO:+0200
TZNAME:CEST
DTSTART:20230326T010000
END:DAYLIGHT
BEGIN:STANDARD
TZOFFSETFROM:+0200
TZOFFSETTO:+0100
TZNAME:CET
DTSTART:20231029T010000
END:STANDARD
END:VTIMEZONE
BEGIN:VEVENT
DTSTART;TZID=Europe/Berlin:20230714T180000
DTEND;TZID=Europe/Berlin:20230714T233000
DTSTAMP:20260420T172901
CREATED:20230628T135348Z
LAST-MODIFIED:20230713T120853Z
UID:31254-1689357600-1689377400@weltecho.eu
SUMMARY:Sommer im Hof
DESCRIPTION:
URL:https://weltecho.eu/veranstaltung/sommer-im-hof-5/
LOCATION:Hof\, Annaberger Str. 24\, Chemnitz\, Sachsen\, 09111\, Deutschland
CATEGORIES:Bar,Open Air,Spiel & Spass
ATTACH;FMTTYPE=image/jpeg:https://weltecho.eu/wp-content/uploads/WE_SIH_Post_07.2023_WEB-1.jpg
GEO:50.8284759;12.9205225
X-APPLE-STRUCTURED-LOCATION;VALUE=URI;X-ADDRESS=Hof Annaberger Str. 24 Chemnitz Sachsen 09111 Deutschland;X-APPLE-RADIUS=500;X-TITLE=Annaberger Str. 24:geo:12.9205225,50.8284759
END:VEVENT
BEGIN:VEVENT
DTSTART;TZID=Europe/Berlin:20230714T220000
DTEND;TZID=Europe/Berlin:20230714T220000
DTSTAMP:20260420T172901
CREATED:20230714T071857Z
LAST-MODIFIED:20230714T071857Z
UID:31461-1689372000-1689372000@weltecho.eu
SUMMARY:Karaoke ist für Alle da!
DESCRIPTION:Wir haben news: es gibt endlich wieder Karaoke für alle in Chemnitz!💫\nJeden 2. Freitag im Monat laden wir euch zur großen Weltecho-Karaoke ein! Kommt vorbei\, singt was das Zeug hält & lasst uns einen wunderbaren Abend haben. \nIMPORTANT: alle Menschen können singen\, die Geschmäcker sind verschieden – be fair! Wir behalten uns vor\, Musikwünsche abzulehnen wenn sie Diskriminierungen aufweisen – gebt uns da auch gerne Tipps.
URL:https://weltecho.eu/veranstaltung/karaoke-ist-fuer-alle-da/
LOCATION:Studio\, Annaberger Str. 24\, Chemnitz\, Sachsen\, 09111\, Deutschland
CATEGORIES:Konzert,Party,Performance,Spiel & Spass
ATTACH;FMTTYPE=image/jpeg:https://weltecho.eu/wp-content/uploads/WE_Karaoke_Post_07.2023_Event_v2.jpg
END:VEVENT
END:VCALENDAR