BEGIN:VCALENDAR
VERSION:2.0
PRODID:-//Weltecho - ECPv5.16.2.1//NONSGML v1.0//EN
CALSCALE:GREGORIAN
METHOD:PUBLISH
X-WR-CALNAME:Weltecho
X-ORIGINAL-URL:https://weltecho.eu
X-WR-CALDESC:Veranstaltungen für Weltecho
BEGIN:VTIMEZONE
TZID:Europe/Berlin
BEGIN:DAYLIGHT
TZOFFSETFROM:+0100
TZOFFSETTO:+0200
TZNAME:CEST
DTSTART:20230326T010000
END:DAYLIGHT
BEGIN:STANDARD
TZOFFSETFROM:+0200
TZOFFSETTO:+0100
TZNAME:CET
DTSTART:20231029T010000
END:STANDARD
END:VTIMEZONE
BEGIN:VEVENT
DTSTART;TZID=Europe/Berlin:20230729T210000
DTEND;TZID=Europe/Berlin:20230730T040000
DTSTAMP:20260420T173710
CREATED:20230713T122305Z
LAST-MODIFIED:20230717T091615Z
UID:31457-1690664400-1690689600@weltecho.eu
SUMMARY:CHEERS QUEERS x CSD Aftershow
DESCRIPTION:There’s no limit to party to be PROUD on the PRIDE – Deswegen endet der CSD auch diese Jahr nicht mit der offiziellen Nachtruhe. Wir machen wieder – nach diesem großartigen Tag – noch im Weltecho die Nacht zum Tag & feiern uns & hoffentlich bis zum Sonnenaufgang!\nDafür gibt es wie immer ein großartiges LINE UP der Hof ist ab 21:00 Uhr geöffnet & wir legen Glitzer über unser Haus! \n21:00-23:00 L4RA (im Hof) \nIm Club:\n22:00-23:30 DRIKK 17\n23:30-01:00 DJ YVE’REE\n01:00-02:30 Fixi Fate\n02:30-04:00 stœhrlinski \nDas wird ein Fest\, let’s get loud! In diesem Sinne: CHEERS QUEERS! \nDer Eintritt ist frei | respect eachother
URL:https://weltecho.eu/veranstaltung/csd-after-show/
LOCATION:Club\, Annaberger Str. 24\, Chemnitz\, Sachsen\, 09111\, Deutschland
CATEGORIES:Bar,Party,Tanz
ATTACH;FMTTYPE=image/png:https://weltecho.eu/wp-content/uploads/WE_CheersQueers_Event_07.2023_WEB.png
GEO:50.8284759;12.9205225
X-APPLE-STRUCTURED-LOCATION;VALUE=URI;X-ADDRESS=Club Annaberger Str. 24 Chemnitz Sachsen 09111 Deutschland;X-APPLE-RADIUS=500;X-TITLE=Annaberger Str. 24:geo:12.9205225,50.8284759
END:VEVENT
BEGIN:VEVENT
DTSTART;TZID=Europe/Berlin:20230730T210000
DTEND;TZID=Europe/Berlin:20230730T233000
DTSTAMP:20260420T173710
CREATED:20230726T131255Z
LAST-MODIFIED:20230726T131336Z
UID:31477-1690750800-1690759800@weltecho.eu
SUMMARY:KINO IM HOF: Everything Everywhere All At Once
DESCRIPTION:Das Kino hat zwar Sommerpause\, aber ganz ohne Filme wollten wir den Sommer dann auch nicht verbringen. Deswegen gibt es jetzt einige Termine\, bei denen wir euch mit einer Auswahl neuerer und älterer Film-Classics draußen im Hof überraschen wollen.\nBei schlechtem Wetter gibt es die Möglichkeit\, die Veranstaltung nach Drinnen zu verlegen.\n\nAbenteuer | Komödie | Sci-Fi | USA 2022 | 139 Min.\nRegie: Dan Kwan\nDarsteller*innen: Michelle Yeoh\, Stephanie Hsu\, Jamie Lee Curtis\n\nEine chinesisch-stämmige Waschsalonbesitzerin muss sich nicht nur mit unzufriedenen Kunden und anderen Widrigkeiten herumschlagen\, sondern auch ein großes Essen für das chinesische Neujahrsfest vorbereiten und einen Streit mit dem Finanzamt ausfechten. Doch urplötzlich befindet sich die überforderte Frau in einem weit gewaltigeren Chaos wieder\, in dem andere Ichs aus parallelen Welten in ihren Körper schlüpfen. Das perfekt durchinszenierte\, aber hyperaktive Film-Puzzle spielt mit der Idee eines Multiversums\, stellt mit seinem rasant dargebotenen Ideenreichtum aber mitunter eine echte Herausforderung dar\, bei dem der permanente Wechsel der Szenerie für ein minutiös geplantes Durcheinander sorgt.\n\nEinlass: 21:00 Uhr\nStart: 21:30 Uhr\nEintritt: 5\,00€ / 6\,00€ (ermäßigt/regulär)
URL:https://weltecho.eu/veranstaltung/kino-im-hof-everything-everywhere-all-at-once/
LOCATION:Hof\, Annaberger Str. 24\, Chemnitz\, Sachsen\, 09111\, Deutschland
CATEGORIES:Film
ATTACH;FMTTYPE=image/jpeg:https://weltecho.eu/wp-content/uploads/everythinghoch.jpg
GEO:50.8284759;12.9205225
X-APPLE-STRUCTURED-LOCATION;VALUE=URI;X-ADDRESS=Hof Annaberger Str. 24 Chemnitz Sachsen 09111 Deutschland;X-APPLE-RADIUS=500;X-TITLE=Annaberger Str. 24:geo:12.9205225,50.8284759
END:VEVENT
END:VCALENDAR