BEGIN:VCALENDAR
VERSION:2.0
PRODID:-//Weltecho - ECPv5.16.2.1//NONSGML v1.0//EN
CALSCALE:GREGORIAN
METHOD:PUBLISH
X-WR-CALNAME:Weltecho
X-ORIGINAL-URL:https://weltecho.eu
X-WR-CALDESC:Veranstaltungen für Weltecho
BEGIN:VTIMEZONE
TZID:Europe/Berlin
BEGIN:DAYLIGHT
TZOFFSETFROM:+0100
TZOFFSETTO:+0200
TZNAME:CEST
DTSTART:20230326T010000
END:DAYLIGHT
BEGIN:STANDARD
TZOFFSETFROM:+0200
TZOFFSETTO:+0100
TZNAME:CET
DTSTART:20231029T010000
END:STANDARD
END:VTIMEZONE
BEGIN:VEVENT
DTSTART;TZID=Europe/Berlin:20230803T203000
DTEND;TZID=Europe/Berlin:20230803T230000
DTSTAMP:20260420T174005
CREATED:20220515T102544Z
LAST-MODIFIED:20230909T224303Z
UID:24594-1691094600-1691103600@weltecho.eu
SUMMARY:Antonia Hausmann »Teleidoscope« [20230803]
DESCRIPTION:Nominiert für den Deutschen Jazzpreis 2023 · Blechblasinstrumente\nAntonia Hausmann hat sich als Posaunistin und Komponistin in der deutschen Jazzszene einen Namen gemacht. 2022 veröffentlichte sie ihr erstes Album „Teleidoscope“\, wo sie eindrucksvoll ihren experimentellen Ansatz als Jazzmusikerin unter Beweis stellt. In ihrer Musik schlägt sich eine breite Palette an stilistischen Einflüssen und Ansätzen nieder\, die niemals angestrengt oder verkopft wirken\, sondern sich vielmehr aus einem natürlichen Flow zu ergeben scheinen. Als Bandleaderin gelingt es Antonia Hausmann in ihrem Debütalbum ihre Band auf eine sanfte\, aber wegweisende Art und Weise zu führen. Antonia Hausmanns positive Energie für den Jazz in Deutschland ist schon jetzt nicht mehr wegzudenken. \nAntonia Hausmann versucht in ihren Kompositionen die musikalischen Einflüsse zu vereinen\, welche sie in den letzten Jahren geprägt haben. Das bestehende Duo Hausmann / Scholz wird an diesem Abend noch um die beiden Gäste Damian Dalla Torre und Johannes Bigge ergänzt.\nUnterstützt von Schlagzeug\, Bassklarinette und Klavier entfaltet das Antonia Hausmann Quartett pure Freude am Entdecken und Spielen jazziger Popmusik. \n\nhttps://weltecho.eu/wp-content/uploads/20230803_Hausmann_13min_720.mp4\nAntonia Hausmann – Posaune\, Komposition \nJan Roth – Schlagzeug \nSebastian Wehle – Tenorsaxophon und Bassklarinette \nJohannes Bigge – Klavier \n 
URL:https://weltecho.eu/veranstaltung/teleidoscope/
LOCATION:Cafe\, Annaberger Str. 24\, Chemnitz\, Sachsen\, 09111\, Deutschland
CATEGORIES:All That Jazz
ATTACH;FMTTYPE=image/jpeg:https://weltecho.eu/wp-content/uploads/PlattenCOVER.jpg
GEO:50.8284759;12.9205225
X-APPLE-STRUCTURED-LOCATION;VALUE=URI;X-ADDRESS=Cafe Annaberger Str. 24 Chemnitz Sachsen 09111 Deutschland;X-APPLE-RADIUS=500;X-TITLE=Annaberger Str. 24:geo:12.9205225,50.8284759
END:VEVENT
END:VCALENDAR