BEGIN:VCALENDAR
VERSION:2.0
PRODID:-//Weltecho - ECPv5.16.2.1//NONSGML v1.0//EN
CALSCALE:GREGORIAN
METHOD:PUBLISH
X-WR-CALNAME:Weltecho
X-ORIGINAL-URL:https://weltecho.eu
X-WR-CALDESC:Veranstaltungen für Weltecho
BEGIN:VTIMEZONE
TZID:Europe/Berlin
BEGIN:DAYLIGHT
TZOFFSETFROM:+0100
TZOFFSETTO:+0200
TZNAME:CEST
DTSTART:20230326T010000
END:DAYLIGHT
BEGIN:STANDARD
TZOFFSETFROM:+0200
TZOFFSETTO:+0100
TZNAME:CET
DTSTART:20231029T010000
END:STANDARD
END:VTIMEZONE
BEGIN:VEVENT
DTSTART;TZID=Europe/Berlin:20230805T210000
DTEND;TZID=Europe/Berlin:20230805T233000
DTSTAMP:20260420T174142
CREATED:20230726T132531Z
LAST-MODIFIED:20230726T132636Z
UID:31480-1691269200-1691278200@weltecho.eu
SUMMARY:KINO IM HOF: Juno
DESCRIPTION:Das Kino hat zwar Sommerpause\, aber ganz ohne Filme wollten wir den Sommer dann auch nicht verbringen. Deswegen gibt es jetzt einige Termine\, bei denen wir euch mit einer Auswahl neuerer und älterer Film-Classics draußen im Hof überraschen wollen.\nBei schlechtem Wetter gibt es die Möglichkeit\, die Veranstaltung nach Drinnen zu verlegen.\n\nKomödie | USA/Kanada/Ungarn 2007 | 96 Min.\nRegie: Jason Reitman\nDarsteller*innen: Elliot Page\, Jennifer Garner\, Jason Bateman\n\nEine 16-Jährige wird ungewollt schwanger und will das Kind austragen\, um es in die Obhut einer Adoptiv-Familie zu geben. Doch dies ist nicht der Weisheit letzter Schluss\, und die werdende Mutter fasst schließlich einen anderen Plan. Die nachdenklich stimmende Teenager-Komödie baut zunächst auf die Schnoddrigkeit ihrer Protagonistin\, entwickelt dann aber zunehmend menschlichen Tiefgang und glaubwürdige Emotionen und fesselt vor allem durch den überzeugenden Hauptdarsteller.\n\nEinlass: 21:00 Uhr\nStart: 21:30 Uhr\nEintritt: 5\,00€ / 6\,00€ (ermäßigt/regulär)
URL:https://weltecho.eu/veranstaltung/31480/
LOCATION:Hof\, Annaberger Str. 24\, Chemnitz\, Sachsen\, 09111\, Deutschland
CATEGORIES:Film
ATTACH;FMTTYPE=image/jpeg:https://weltecho.eu/wp-content/uploads/junohoch.jpg
GEO:50.8284759;12.9205225
X-APPLE-STRUCTURED-LOCATION;VALUE=URI;X-ADDRESS=Hof Annaberger Str. 24 Chemnitz Sachsen 09111 Deutschland;X-APPLE-RADIUS=500;X-TITLE=Annaberger Str. 24:geo:12.9205225,50.8284759
END:VEVENT
END:VCALENDAR